BEGIN:VCALENDAR
VERSION:2.0
PRODID:-//Wald-Gesundheitstraining - ECPv6.15.18//NONSGML v1.0//EN
CALSCALE:GREGORIAN
METHOD:PUBLISH
X-ORIGINAL-URL:https://www.wald-gesundheitstraining.de
X-WR-CALDESC:Veranstaltungen für Wald-Gesundheitstraining
REFRESH-INTERVAL;VALUE=DURATION:PT1H
X-Robots-Tag:noindex
X-PUBLISHED-TTL:PT1H
BEGIN:VTIMEZONE
TZID:Europe/Berlin
BEGIN:DAYLIGHT
TZOFFSETFROM:+0100
TZOFFSETTO:+0200
TZNAME:CEST
DTSTART:20250330T010000
END:DAYLIGHT
BEGIN:STANDARD
TZOFFSETFROM:+0200
TZOFFSETTO:+0100
TZNAME:CET
DTSTART:20251026T010000
END:STANDARD
BEGIN:DAYLIGHT
TZOFFSETFROM:+0100
TZOFFSETTO:+0200
TZNAME:CEST
DTSTART:20260329T010000
END:DAYLIGHT
BEGIN:STANDARD
TZOFFSETFROM:+0200
TZOFFSETTO:+0100
TZNAME:CET
DTSTART:20261025T010000
END:STANDARD
BEGIN:DAYLIGHT
TZOFFSETFROM:+0100
TZOFFSETTO:+0200
TZNAME:CEST
DTSTART:20270328T010000
END:DAYLIGHT
BEGIN:STANDARD
TZOFFSETFROM:+0200
TZOFFSETTO:+0100
TZNAME:CET
DTSTART:20271031T010000
END:STANDARD
END:VTIMEZONE
BEGIN:VEVENT
DTSTART;VALUE=DATE:20260928
DTEND;VALUE=DATE:20261003
DTSTAMP:20260423T160301
CREATED:20190703T083520Z
LAST-MODIFIED:20260422T130457Z
UID:918-1790553600-1790985599@www.wald-gesundheitstraining.de
SUMMARY:Fällt aus! Bildungsurlaub: Gesundheit ganzheitlich fördern - Waldbaden und Meditation
DESCRIPTION:Waldbaden: Achtsamkeit und Naturwahrnehmung als Antwort auf das gesellschaftliche Massenphänomen Stress.\nDie Arbeitswelt verändert sich\, fordert viele Menschen nicht mehr nur inhaltlich sondern auch prozessual heraus. Digitalisierung\, Multimedialität\, Reizüberflutung und hohe Geschwindigkeit verlangen den Menschen beruflich und privat viel ab und bringen viele an ihre Grenzen. \nUnzufriedenheit\, Burn-out und Depressionen ist häufig das Ergebnis. Psychische Erkrankungen nehmen immer mehr zu. Grund dafür sind u.a. starke Belastungen\, Angst vor Arbeitsplatzverlust\, mangelnder Ausgleich durch Freizeit und Erholung – Resumée: die Balance fehlt. Punktuell erlebter Stress wird chronisch und es entsteht ein Teufelskreis. \nDieser Bildungsurlaub vermittelt theoretische Kenntnisse über die Formen von Stress\, dem Entstehen von Stress sowie anerkannte\, wissenschaftliche Gegenmaßnahmen. Als richtungsweisende Beispiele werden Elemente der Achtsamkeits-Meditation nach Jon Kabat-Zinn in Theorie und Praxis erläutert und angewandt. Darüber hinaus werden sehr praxisorientiert die natürlichen Ressourcen des Waldes und die wertvollen Heilkräfte dieses Ökosystems ganzheitlich genutzt. Basis hierfür sind die Erkenntnisse aus über 30 Jahren Forschungsarbeit in Japan (Shinrin Yoku = Waldbaden). \nSinneserleben durch Achtsamkeit (Meditation und Waldbaden) fördert die Körperwahrnehmung\, die man benötigt\, um Körper-Signale valide interpretieren zu können. Der erste Schritt für Veränderung. Die Teilnehmer werden mithilfe verschiedener Übungen und unter Anleitung lernen\, ihre Wahrnehmung zu schärfen und zeitnah für Ausgleich zu sorgen. So können typische Muster von „Reiz – Reaktion“ erfolgreich unterbrochen und verändert werden. Die Teilnehmer entwickeln so eine unterstützende Fähigkeit für eine resiliente Performance im Berufsalltag.\nDer Aufenthalt im Wald ist ursprünglich und im Körperwissen des Menschen abgespeichert. Der menschliche Organismus reagiert auf die ökologischen Prozesse durch Stärkung des Immunsystems und mit körperlicher und mentaler Regeneration. Deswegen ist der Aufenthalt in der Natur so wichtig\, vor allem jetzt in Zeiten von Virtual Reality und Digitalisierung. \nInfos und Anmeldung über >> VHS Hochtaunus. \nDie Teilnehmer betreten den Wald auf eigene Verantwortung\, die Veranstalterin übernimmt keine Gewähr.
URL:https://www.wald-gesundheitstraining.de/termine/bildungsurlaub-gesundheit-ganzheitlich-foerdern/
LOCATION:Lutherische Theologische Hochschule\, Altkönigstraße 150\, Oberursel\, 61440
CATEGORIES:Bildungsurlaub Hessen
ATTACH;FMTTYPE=image/jpeg:https://www.wald-gesundheitstraining.de/wp-content/uploads/2019/09/IMG_1288-002.jpg
END:VEVENT
END:VCALENDAR